BEGIN:VCALENDAR
VERSION:2.0
PRODID:-//Scribner Bend Vineyards - ECPv6.15.20//NONSGML v1.0//EN
CALSCALE:GREGORIAN
METHOD:PUBLISH
X-WR-CALNAME:Scribner Bend Vineyards
X-ORIGINAL-URL:https://scribnerbend.com
X-WR-CALDESC:Events for Scribner Bend Vineyards
REFRESH-INTERVAL;VALUE=DURATION:PT1H
X-Robots-Tag:noindex
X-PUBLISHED-TTL:PT1H
BEGIN:VTIMEZONE
TZID:America/Los_Angeles
BEGIN:DAYLIGHT
TZOFFSETFROM:-0800
TZOFFSETTO:-0700
TZNAME:PDT
DTSTART:20250309T100000
END:DAYLIGHT
BEGIN:STANDARD
TZOFFSETFROM:-0700
TZOFFSETTO:-0800
TZNAME:PST
DTSTART:20251102T090000
END:STANDARD
BEGIN:DAYLIGHT
TZOFFSETFROM:-0800
TZOFFSETTO:-0700
TZNAME:PDT
DTSTART:20260308T100000
END:DAYLIGHT
BEGIN:STANDARD
TZOFFSETFROM:-0700
TZOFFSETTO:-0800
TZNAME:PST
DTSTART:20261101T090000
END:STANDARD
BEGIN:DAYLIGHT
TZOFFSETFROM:-0800
TZOFFSETTO:-0700
TZNAME:PDT
DTSTART:20270314T100000
END:DAYLIGHT
BEGIN:STANDARD
TZOFFSETFROM:-0700
TZOFFSETTO:-0800
TZNAME:PST
DTSTART:20271107T090000
END:STANDARD
END:VTIMEZONE
BEGIN:VEVENT
DTSTART;TZID=America/Los_Angeles:20260424T120000
DTEND;TZID=America/Los_Angeles:20260424T150000
DTSTAMP:20260422T150757
CREATED:20260420T034813Z
LAST-MODIFIED:20260420T034908Z
UID:7019-1777032000-1777042800@scribnerbend.com
SUMMARY:Friday Music with Ken Peterson
DESCRIPTION:Join us for our Friday Music Series featuring Ken Peterson on Friday\, April 24\, 2026\, from 12–3 PM. Settle in for an afternoon of great live music\, relax with friends\, and make it a perfect outing by staying for delicious Paesanos Pizza paired with our award-winning wines. It’s the ideal way to unwind and kick off your weekend—good tunes\, great food\, and even better company.
URL:https://scribnerbend.com/event/friday-music-series-ken-peterson-apr-24-2026/
LOCATION:Scribner Bend Vineyards\, 9051 River Road\, Sacramento\, CA\, 95832\, United States
ATTACH;FMTTYPE=image/jpeg:https://scribnerbend.com/wp-content/uploads/2026/04/Friday-Music-04.24.2026-Ken-Peterson-IG.jpg
ORGANIZER;CN="Scribner Bend Vineyards":MAILTO:weddings@scribnerbend.com
END:VEVENT
END:VCALENDAR